BEGIN:VCALENDAR
VERSION:2.0
PRODID:-//Beratung und Weiterbildung für Labore | Geniu - ECPv6.2.9//NONSGML v1.0//EN
CALSCALE:GREGORIAN
METHOD:PUBLISH
X-ORIGINAL-URL:http://geniu.tv/de
X-WR-CALDESC:Veranstaltungen für Beratung und Weiterbildung für Labore | Geniu
REFRESH-INTERVAL;VALUE=DURATION:PT1H
X-Robots-Tag:noindex
X-PUBLISHED-TTL:PT1H
BEGIN:VTIMEZONE
TZID:Europe/Berlin
BEGIN:DAYLIGHT
TZOFFSETFROM:+0100
TZOFFSETTO:+0200
TZNAME:CEST
DTSTART:20170326T010000
END:DAYLIGHT
BEGIN:STANDARD
TZOFFSETFROM:+0200
TZOFFSETTO:+0100
TZNAME:CET
DTSTART:20171029T010000
END:STANDARD
END:VTIMEZONE
BEGIN:VEVENT
DTSTART;TZID=Europe/Berlin:20170510T160000
DTEND;TZID=Europe/Berlin:20170510T170000
DTSTAMP:20260424T235754
CREATED:20180710T153233Z
LAST-MODIFIED:20190301T125105Z
UID:12628-1494432000-1494435600@geniu.tv
SUMMARY:Labor-Benchmarking: Von den besten Laboren lernen
DESCRIPTION:Kennzahlen sind ein zentraler Bestandteil der Führung eines Labors. Durch die bessere Verfügbarkeit von Daten hat die Bedeutung in den letzten Jahren nochmals zugenommen. Sogar die Aufsichtsbehörden haben angefangen Kennzahlen – sogenannte „Quality Metrics“ – für die Beurteilung der Dringlichkeit einer Inspektion heranzuziehen. Daher hat die Einschätzung der eigenen Leistungsfähigkeit durch Benchmarking erheblich an Bedeutung gewonnen. \nInhalte\nFolgende Themen werden im Webinar behandelt: \n\nWelche Funktion erfüllen Kennzahlen und Benchmarks in Ihrem Labor? Wie werden diese richtig eingesetzt?\nWie hilft ein Benchmarking Verbesserungsbereiche im Labor zu erkennen und zu priorisieren?\nWie bereite ich mich am besten auf das Reporting von „Quality Metrics“ vor?\n\nZielgruppe\nDieses Webinar richtet sich an Führungskräfte und Mitarbeiter im Bereich Pharma-Qualitätsmanagement und insbesondere der Qualitätskontrolle\, die für Laboroptimierungsprojekte oder -programme verantwortlich sind oder diese entwickeln wollen. \nReferent\nDr. Wolf-Christian Gerstner ist Geschäftsführer der Geniu GmbH und hat das Forschungsprojekt des Geniu Lab Instituts zu den „10 Erfolgsfaktoren von Laboroptimierungsprojekten“ geleitet sowie Erfahrung aus mehr als 30 Laboroptimierungsprojekten für Pharma-Qualitätskontrolllabore. \n\n \nTechnische Voraussetzungen\nFür die Teilnahme ist ein PC/Laptop mit schnellem Internetzugang (z.B. DSL) sowie Lautsprecher oder Kopfhörer erforderlich. Das Webinar wird über den etablierten Anbieter für professionelle Webinare „WebEx“ angeboten. Es werden die gängigen Browser (Google Chrome\, Microsoft Edge\, Mozilla Firefox und Safari) unterstützt. Weitere Informationen finden Sie unter https://www.webex.de/support/support-system-requirements.html.
URL:http://geniu.tv/de/veranstaltungen/labor-benchmarking-von-den-besten-laboren-lernen/
LOCATION:Live Webinar
CATEGORIES:Webinar
ATTACH;FMTTYPE=image/jpeg:http://geniu.tv/de/wp-content/uploads/sites/3/2018/12/geniu_webinar_benchmarking.jpg
ORGANIZER;CN="Geniu":MAILTO:christian.gerstner@geniu.com
END:VEVENT
END:VCALENDAR