BEGIN:VCALENDAR
VERSION:2.0
PRODID:-//Beratung und Weiterbildung für Labore | Geniu - ECPv6.2.9//NONSGML v1.0//EN
CALSCALE:GREGORIAN
METHOD:PUBLISH
X-ORIGINAL-URL:http://geniu.tv/de
X-WR-CALDESC:Veranstaltungen für Beratung und Weiterbildung für Labore | Geniu
REFRESH-INTERVAL;VALUE=DURATION:PT1H
X-Robots-Tag:noindex
X-PUBLISHED-TTL:PT1H
BEGIN:VTIMEZONE
TZID:Europe/Berlin
BEGIN:DAYLIGHT
TZOFFSETFROM:+0100
TZOFFSETTO:+0200
TZNAME:CEST
DTSTART:20190331T010000
END:DAYLIGHT
BEGIN:STANDARD
TZOFFSETFROM:+0200
TZOFFSETTO:+0100
TZNAME:CET
DTSTART:20191027T010000
END:STANDARD
END:VTIMEZONE
BEGIN:VEVENT
DTSTART;TZID=Europe/Berlin:20191121T094500
DTEND;TZID=Europe/Berlin:20191121T103000
DTSTAMP:20260423T003137
CREATED:20191105T144845Z
LAST-MODIFIED:20200106T171129Z
UID:16257-1574329500-1574332200@geniu.tv
SUMMARY:Fachvortrag auf dem "Symposium für Mikrobiologie": Herausforderungen im Labor meistern
DESCRIPTION:Neben dem bereits bekannten und beliebten Symposium für Mikrobiologie findet als Premiere im Vorfeld auch erstmals das Symposium für Präanalytik statt.\nSowohl die medizinische Mikrobiologie als auch die ihr vorgeschaltete Präanalytik entwickeln sich zurzeit rasant. Die Einführung neuer Methoden bringen den Labors\, Klinikern und Patienten enorme Fortschritte\, stellen uns aber auch vor eine Vielzahl neuer Herausforderungen. Daneben sind Resistenzentwicklung und der Einsatz neuer antimikrobieller Substanzen weitere aktuelle Schwerpunkte. Beide Veranstaltungen zeichnen sich durch eine enge Vernetzung von Wissenschaft und Praxis aus und bieten Ihnen neben den Vorträgen auch die Möglichkeit sich auszutauschen.\nReferent\nAuf dem Symposium hält Dr. Wolf-Christian Gerstner\, Geschäftsführer der Laborberatung Geniu einen Fachvortrag zum Thema „Herausforderungen im Labor mit Lean Management meistern: gestern – heute – morgen“ \n\nJetzt anmelden\n \n×Anmeldung \nOnline-Schulung-Lean Lab\n\n\n  \n\n\n\n\n\n\n\n\n\n\n\n\n\n\n\n\n\nDatenschutzhinweis Ihre Anfrage wird verschlüsselt über unseren Server versendet. Wir werden Ihre Angaben nur zur Bearbeitung Ihres Anliegens verwenden. Weitere Informationen sowie Widerrufhinweise finden Sie in unserer Datenschutzerklärung. \nBitte lasse dieses Feld leer.Bitte lasse dieses Feld leer.×\n\n\n\n\n 
URL:http://geniu.tv/de/veranstaltungen/fachvortrag-auf-dem-symposium-fuer-mikrobiologie-herausforderungen-im-labor-meistern/
LOCATION:Schloss Schönbrunn (Wien\, Österreich)\, Apothekertrakt\, Schönbrunner Schloßstraße 47\, Wien\, 1130
CATEGORIES:Vortrag
ATTACH;FMTTYPE=image/jpeg:http://geniu.tv/de/wp-content/uploads/sites/3/2020/01/geniu_fachvortrag-symposium-fuer-mikrobiologie.jpg
END:VEVENT
BEGIN:VEVENT
DTSTART;TZID=Europe/Berlin:20191121T130000
DTEND;TZID=Europe/Berlin:20191121T170000
DTSTAMP:20260423T003137
CREATED:20190215T162130Z
LAST-MODIFIED:20190906T152213Z
UID:14658-1574341200-1574355600@geniu.tv
SUMMARY:Info-Tag "Lean Lab" - Erfolgreiche Optimierungen im Labor
DESCRIPTION:Steigendes Arbeits- und Probenvolumen bei gleichbleibendem Laborteam – immer neue Aufgaben und Ziele\, die Sie erfüllen müssen? Um diese Herausforderungen erfolgreich zu meistern\, sollten Sie sich mit den Möglichkeiten der Laboroptimierung mit „Lean“ auseinandersetzen. Denn Lean mit seinen etablierten Lean-Techniken wurde nicht nur in der Industrie\, sondern in zahlreichen Laboren mit großem Erfolg eingesetzt. \nInhalte\nSie möchten aus dem umfassenden Methodenbaukasten von Lean die richtigen Lean-Techniken auswählen\, um Ihre Abläufe im Labor effizienter und zuverlässiger zu machen? Zudem möchten Sie nicht nur lernen\, wie Sie Verschwendungen und Verbesserungsmöglichkeiten identifizieren\, sondern auch\, wie Sie effektive Lösungen für Ihr Labor entwickeln und nachhaltig umsetzen können? Dann informieren Sie sich an diesem Info-Tag über unsere Schulungen und Beratungsformate speziell für Labore. Schauen Sie zu einer beliebigen Zeit während des Info-Tags vorbei oder vereinbaren Sie einen persönlichen Gesprächstermin. \nZielgruppe\nDieser Info-Tag richtet sich an Führungskräfte und Mitarbeiter aus Laboren in dem Bereich Qualitätsmanagement und insbesondere der Qualitätskontrolle\, die für Laboroptimierungsprojekte oder -programme verantwortlich sind oder diese entwickeln wollen. \nAnsprechpartner\nDr. Wolf-Christian Gerstner ist Geschäftsführer von Geniu und hat Erfahrungen aus mehr als 75 Lean Lab Optimierungsprojekten für kleine\, mittlere und große Labore in Europa\, USA und Asien. \n* Der genaue Ort/die Adresse wird nach der Anmeldung spätestens eine Woche vorher kommuniziert. \n\nJetzt anmeldenGespräch vereinbaren\n\n×Anmeldung zur Veranstaltung\nOnline-Schulung-Lean Lab\n\n\n  \n\n\n\n\n\n\n\n\n\n\n\n\n\n\n\n\n\nDatenschutzhinweis Ihre Anfrage wird verschlüsselt über unseren Server versendet. Wir werden Ihre Angaben nur zur Bearbeitung Ihres Anliegens verwenden. Weitere Informationen sowie Widerrufhinweise finden Sie in unserer Datenschutzerklärung. \nBitte lasse dieses Feld leer.Bitte lasse dieses Feld leer.×\n\n\n\n×Gesprächstermin vereinbaren \nOnline-Schulung-Lean Lab\n\n\n  \n\n\n\n\n\n\n\n\n\n\n\n\n\n\n\n\n\n\n\nDatenschutzhinweis Ihre Anfrage wird verschlüsselt über unseren Server versendet. Wir werden Ihre Angaben nur zur Bearbeitung Ihres Anliegens verwenden. Weitere Informationen sowie Widerrufhinweise finden Sie in unserer Datenschutzerklärung. \nBitte lasse dieses Feld leer.Bitte lasse dieses Feld leer.×
URL:http://geniu.tv/de/veranstaltungen/info-tag-lean-lab-erfolgreiche-optimierungen-im-labor-2019-11/
LOCATION:Hamburg*\, Deutschland
CATEGORIES:Vortrag
ATTACH;FMTTYPE=image/jpeg:http://geniu.tv/de/wp-content/uploads/sites/3/2019/02/geniu_infotag-1.jpg
ORGANIZER;CN="Geniu":MAILTO:christian.gerstner@geniu.com
END:VEVENT
END:VCALENDAR