BEGIN:VCALENDAR
VERSION:2.0
PRODID:-//Beratung und Weiterbildung für Labore | Geniu - ECPv6.2.9//NONSGML v1.0//EN
CALSCALE:GREGORIAN
METHOD:PUBLISH
X-WR-CALNAME:Beratung und Weiterbildung für Labore | Geniu
X-ORIGINAL-URL:http://geniu.tv/de
X-WR-CALDESC:Veranstaltungen für Beratung und Weiterbildung für Labore | Geniu
REFRESH-INTERVAL;VALUE=DURATION:PT1H
X-Robots-Tag:noindex
X-PUBLISHED-TTL:PT1H
BEGIN:VTIMEZONE
TZID:Europe/Berlin
BEGIN:DAYLIGHT
TZOFFSETFROM:+0100
TZOFFSETTO:+0200
TZNAME:CEST
DTSTART:20200329T010000
END:DAYLIGHT
BEGIN:STANDARD
TZOFFSETFROM:+0200
TZOFFSETTO:+0100
TZNAME:CET
DTSTART:20201025T010000
END:STANDARD
END:VTIMEZONE
BEGIN:VEVENT
DTSTART;TZID=Europe/Berlin:20200505T121500
DTEND;TZID=Europe/Berlin:20200505T171500
DTSTAMP:20260422T131615
CREATED:20200430T134519Z
LAST-MODIFIED:20200430T141408Z
UID:16545-1588680900-1588698900@geniu.tv
SUMMARY:Aktuelle Trends in der Qualitätskontrolle
DESCRIPTION:Das Praxisseminar „Aktuelle Trends in der Qualitätskontrolle“ von Concept Heidelberg informiert über aktuelle Entwicklungen in der pharmazeutischen Qualitätskontrolle. Wichtige Compliance Themen werden ebenso angesprochen wie Möglichkeiten zur Laboroptimierung. \nInhalte\nBei der Schulung wird Dr. Wolf-Christian Gerstner zwei Vorträge halten. Der erste Vortrag zu dem Thema “FDA Quality Metrics: Nutzen für das eigene Labor statt externer Zwang” werden sowohl der Hintergrund und die Relevanz der FDA Quality Metrics Initiative für Labore aufgezeigt\, als auch die Konsequenzen des „Forced-Compliance-Paradigmas“ dargestellt.\nDamit wird den Teilnehmenden ein alternativer Weg zur Verbesserung der Qualität aufgezeigt. Außerdem werden Best-Practices zur Stärkung der Qualitätskultur vorgestellt. \nIm zweiten Vortrag “Digitalisierung im Labor: Industrie 4.0-Trends die das Labor verändern können” werden Tools zur digitalen Steuerung und Optimierung im Labor präsentiert.\nZudem werden lohnenswerte Technologien und Applikationen in diesem Bereich identifiziert und von solchen abgegrenzt\, die “Spielereien” darstellen.\nZudem wird ein Vorgehen vorgestellt\, wie der Nutzen von Technologien bewertet werden kann. \nZielgruppe\nDieses Seminar wendet sich an sachkundige Personen (QP)\, Leiter der Qualitätskontrolle\, Laborleiter und Labormitarbeiter in der pharmazeutischen Qualitätskontrolle und der analytischen Entwicklung. Angesprochen werden auch Mitarbeiter aus Kontrollabteilungen von Wirkstoff- und Hilfsstoffherstellern sowie von Auftragslaboratorien. \nAnsprechpartner\nDr. Wolf-Christian Gerstner ist Geschäftsführer von Geniu und hat Erfahrungen aus mehr als 75 Lean Lab Optimierungsprojekten für kleine\, mittlere und große Labore in Europa\, USA und Asien.
URL:http://geniu.tv/de/veranstaltungen/aktuelle-trends-in-der-qualitaetskontrolle-2020-05/
LOCATION:Live Webinar
CATEGORIES:Vortrag,Webinar
ATTACH;FMTTYPE=image/jpeg:http://geniu.tv/de/wp-content/uploads/sites/3/2018/12/geniu_webinar_success-factors.jpg
END:VEVENT
BEGIN:VEVENT
DTSTART;TZID=Europe/Berlin:20200525T140000
DTEND;TZID=Europe/Berlin:20200525T150000
DTSTAMP:20260422T131615
CREATED:20200508T105924Z
LAST-MODIFIED:20200508T105949Z
UID:16553-1590415200-1590418800@geniu.tv
SUMMARY:Lean Lab - Herausforderungen im Labor mit Lean Management meistern
DESCRIPTION:Steigendes Arbeits- und Probenaufkommen ohne zusätzliche Ressourcen? Um diese Herausforderungen erfolgreich zu meistern\, sollten Sie sich mit den Chancen des Einsatzes von „Lean im Labor“ auseinandersetzen. Denn Lean wird seit 20 Jahren mit großem Erfolg in Laboren eingesetzt. In diesem Vortrag erhalten Sie einen ersten Überblick zu Lean Management und seinen Anwendungsmöglichkeiten\, um Ihre Abläufe im Labor effizienter und zuverlässiger zu machen? Zudem erhalten Sie einen Überblick über die Schulungs- und Beratungsmöglichkeiten zum erfolgreichen Einsatz von Lean im Labor. \nZielgruppe\nDer Vortrag richtet sich an Leiter der Qualitätskontrolle\, Labor-/Teamleiter\, Führungskräfte und verantwortliche Mitarbeiter aus Qualitätskontrolllaboren die ihr Labor hinsichtlich Kosten\, Produktivität\, Qualität\, Zuverlässigkeit und Durchlaufzeit verbessern / optimieren wollen. \nReferent\nDr. Wolf-Christian Gerstner ist Geschäftsführer von Geniu und hat Erfahrungen aus mehr als 75 Lean Lab Optimierungsprojekten für kleine\, mittlere und große Labore in Europa\, USA und Asien. \nJetzt anmeldenGespräch vereinbaren×Gesprächstermin vereinbaren\nOnline-Schulung-Lean Lab\n\n\n  \n\n\n\n\n\n\n\n\n\n\n\n\n\n\n\n\n\n\n\nDatenschutzhinweis Ihre Anfrage wird verschlüsselt über unseren Server versendet. Wir werden Ihre Angaben nur zur Bearbeitung Ihres Anliegens verwenden. Weitere Informationen sowie Widerrufhinweise finden Sie in unserer Datenschutzerklärung. \nBitte lasse dieses Feld leer.Bitte lasse dieses Feld leer.×
URL:http://geniu.tv/de/veranstaltungen/lean-lab-herausforderungen-im-labor-mit-lean-management-meistern-2020-05/
LOCATION:Live Webinar
CATEGORIES:Vortrag,Webinar
ATTACH;FMTTYPE=image/jpeg:http://geniu.tv/de/wp-content/uploads/sites/3/2019/06/geniu_veranstaltung_lean-einfuehrung.jpg
END:VEVENT
BEGIN:VEVENT
DTSTART;TZID=Europe/Berlin:20200528T130000
DTEND;TZID=Europe/Berlin:20200528T134500
DTSTAMP:20260422T131615
CREATED:20200508T111214Z
LAST-MODIFIED:20200508T111214Z
UID:16559-1590670800-1590673500@geniu.tv
SUMMARY:Mehr HPLC-Output zum „Nulltarif“? – Eine Lean-Technik macht‘s möglich
DESCRIPTION:Die Hochleistungsflüssigchromatographie ist die am häufigsten eingesetzte Trennmethode im Labor. Lernen Sie von ausgewiesenen HPLC-Experten Tipps und Tricks beim täglichen Umgang mit HPLC-Systemen und ihren Komponenten. Der Praxistag HPLC am 28. Mai 2020 findet erstmals digital als Webinar statt. Nutzen Sie die Zeit sinnvoll\, wenn die HPLC-Analyse mal wieder etwas länger dauert und holen Sie sich den Praxistag HPLC direkt zu Ihnen ins Labor. \nInhalte\nHPLC-Anlagen beanspruchen viel Platz im Labor und kosten schnellt über fünfzig tausend Euro. Sowohl Platz als auch Finanzmittel sind in Laboren knapp\, so dass häufig nicht ohne Weiteres neue HPLC-Anlagen angeschafft werden können. Doch wie schafft man es\, den Output ohne den Kauf neuer Anlagen signifikant zu steigern? Die OEE-Analyse\, als eine Technik des Lean-Managements\, hilft Ansatzpunkte zu identifizieren. \nZielgruppe\nDie Veranstaltung richtet sich gleichermaßen an Labormitarbeiter\, Laborleiter und Anwendungsexperten aus der Industrie. \nReferent\nDr. Wolf-Christian Gerstner ist Geschäftsführer von Geniu und hat Erfahrungen aus mehr als 75 Lean Lab Optimierungsprojekten für kleine\, mittlere und große Labore in Europa\, USA und Asien. \nJetzt anmeldenGespräch vereinbaren×Gesprächstermin vereinbaren\nOnline-Schulung-Lean Lab\n\n\n  \n\n\n\n\n\n\n\n\n\n\n\n\n\n\n\n\n\n\n\nDatenschutzhinweis Ihre Anfrage wird verschlüsselt über unseren Server versendet. Wir werden Ihre Angaben nur zur Bearbeitung Ihres Anliegens verwenden. Weitere Informationen sowie Widerrufhinweise finden Sie in unserer Datenschutzerklärung. \nBitte lasse dieses Feld leer.Bitte lasse dieses Feld leer.×
URL:http://geniu.tv/de/veranstaltungen/mehr-hplc-output-zum-nulltarif-eine-lean-technik-machts-moeglich-2020-05/
LOCATION:Live Webinar
CATEGORIES:Vortrag,Webinar
ATTACH;FMTTYPE=image/png:http://geniu.tv/de/wp-content/uploads/sites/3/2020/04/Praxistag-HPLC_Dr-Gerstner1.png
END:VEVENT
BEGIN:VEVENT
DTSTART;TZID=Europe/Berlin:20200528T140000
DTEND;TZID=Europe/Berlin:20200528T150000
DTSTAMP:20260422T131615
CREATED:20191203T094440Z
LAST-MODIFIED:20191203T094749Z
UID:16318-1590674400-1590678000@geniu.tv
SUMMARY:Webinar "Lean Lab" - Erfolgreiche Optimierungen im Labor
DESCRIPTION:Steigendes Arbeits- und Probenvolumen bei gleichbleibendem Laborteam – immer neue Aufgaben und Ziele\, die Sie erfüllen müssen? Um diese Herausforderungen erfolgreich zu meistern\, sollten Sie sich mit den Möglichkeiten der Laboroptimierung mit „Lean“ auseinandersetzen. Denn Lean mit seinen etablierten Lean-Techniken wurde nicht nur in der Industrie\, sondern in zahlreichen Laboren mit großem Erfolg eingesetzt. \nInhalte\nSie möchten aus dem umfassenden Methodenbaukasten von Lean die richtigen Lean-Techniken auswählen\, um Ihre Abläufe im Labor effizienter und zuverlässiger zu machen? Zudem möchten Sie nicht nur lernen\, wie Sie Verschwendungen und Verbesserungsmöglichkeiten identifizieren\, sondern auch\, wie Sie effektive Lösungen für Ihr Labor entwickeln und nachhaltig umsetzen können? Dann informieren Sie sich entweder in diesem Webinar über unsere Schulungen und Beratungsformate speziell für Labore oder vereinbaren einen persönlichen Gesprächstermin. \nZielgruppe\nDas Webinar richtet sich an Leiter der Qualitätskontrolle\, Labor-/Teamleiter\, Führungskräfte und verantwortliche Mitarbeiter aus Qualitätskontroll-Laboren\, die ihr Labor hinsichtlich Kosten\, Produktivität\, Qualität\, Zuverlässigkeit und Durchlaufzeit verbessern und optimieren wollen\, oder die für Laboroptimierungsprojekte oder -programme verantwortlich sind oder diese entwickeln wollen. \nReferent\nDr. Wolf-Christian Gerstner ist Geschäftsführer von Geniu und hat Erfahrungen aus mehr als 75 Lean Lab Optimierungsprojekten für kleine\, mittlere und große Labore in Europa\, USA und Asien. \n\nJetzt anmeldenGespräch vereinbaren\n\n×Anmeldung zur Veranstaltung\nOnline-Schulung-Lean Lab\n\n\n  \n\n\n\n\n\n\n\n\n\n\n\n\n\n\n\n\n\nDatenschutzhinweis Ihre Anfrage wird verschlüsselt über unseren Server versendet. Wir werden Ihre Angaben nur zur Bearbeitung Ihres Anliegens verwenden. Weitere Informationen sowie Widerrufhinweise finden Sie in unserer Datenschutzerklärung. \nBitte lasse dieses Feld leer.Bitte lasse dieses Feld leer.×\n\n\n\n×Gesprächstermin vereinbaren \nOnline-Schulung-Lean Lab\n\n\n  \n\n\n\n\n\n\n\n\n\n\n\n\n\n\n\n\n\n\n\nDatenschutzhinweis Ihre Anfrage wird verschlüsselt über unseren Server versendet. Wir werden Ihre Angaben nur zur Bearbeitung Ihres Anliegens verwenden. Weitere Informationen sowie Widerrufhinweise finden Sie in unserer Datenschutzerklärung. \nBitte lasse dieses Feld leer.Bitte lasse dieses Feld leer.×\n\n\n \n\n \nTechnische Voraussetzungen\nFür die Teilnahme ist ein PC/Laptop mit schnellem Internetzugang (z.B. DSL) sowie Lautsprecher oder Kopfhörer erforderlich. Das Webinar wird über den etablierten Anbieter für professionelle Webinare „WebEx“ angeboten. Es werden die gängigen Browser (Google Chrome\, Microsoft Edge\, Mozilla Firefox und Safari) unterstützt. Weitere Informationen finden Sie unter https://help.webex.com.
URL:http://geniu.tv/de/veranstaltungen/webinar-lean-lab-2020-05/
LOCATION:Live Webinar
CATEGORIES:Webinar
ATTACH;FMTTYPE=image/jpeg:http://geniu.tv/de/wp-content/uploads/sites/3/2019/02/geniu_webinar-1.jpg
ORGANIZER;CN="Geniu":MAILTO:christian.gerstner@geniu.com
END:VEVENT
BEGIN:VEVENT
DTSTART;TZID=Europe/Berlin:20200528T160000
DTEND;TZID=Europe/Berlin:20200528T170000
DTSTAMP:20260422T131615
CREATED:20200508T105452Z
LAST-MODIFIED:20200508T105452Z
UID:16557-1590681600-1590685200@geniu.tv
SUMMARY:Laborplanung mit Lean Lab Design
DESCRIPTION:Der Neu- oder Umbau eines Labors ist ein Projekt\, welches die meisten nur einmal im Berufsleben zu meistern haben. Mit einem effektiven Vorgehen zur Gestaltung eines Labors können bis zu 25% Effizienzgewinne realisiert werden\, die nach der Inbetriebnahme in der Regel nicht mehr kosteneffizient realisiert werden können. Um ein „Lean Lab Design“ zu erreichen\, ist es daher wichtig\, sowohl das Makro-Design (bei mehreren Laborräumen) als auch das Mikro-Design eines Labors mit Hilfe von Lean Techniken optimal auf die Testabläufe und die Anforderungen der Laboranten abzustimmen. In dem Vortrag erhalten Sie einen Überblick zur Planung eines Labors mit Lean Management Techniken. \nZielgruppe\nDer Vortrag richtet sich an Leiter der Qualitätskontrolle\, Labor-/Teamleiter\, Führungskräfte und verantwortliche Mitarbeiter aus Qualitätskontrolllaboren die ihr Labor hinsichtlich Kosten\, Produktivität\, Qualität\, Zuverlässigkeit und Durchlaufzeit verbessern / optimieren wollen. \nReferent\nDr. Wolf-Christian Gerstner ist Geschäftsführer von Geniu und hat Erfahrungen aus mehr als 75 Lean Lab Optimierungsprojekten für kleine\, mittlere und große Labore in Europa\, USA und Asien. \nJetzt anmeldenGespräch vereinbaren×Gesprächstermin vereinbaren\nOnline-Schulung-Lean Lab\n\n\n  \n\n\n\n\n\n\n\n\n\n\n\n\n\n\n\n\n\n\n\nDatenschutzhinweis Ihre Anfrage wird verschlüsselt über unseren Server versendet. Wir werden Ihre Angaben nur zur Bearbeitung Ihres Anliegens verwenden. Weitere Informationen sowie Widerrufhinweise finden Sie in unserer Datenschutzerklärung. \nBitte lasse dieses Feld leer.Bitte lasse dieses Feld leer.×
URL:http://geniu.tv/de/veranstaltungen/laborplanung-mit-lean-lab-design-2020-05/
LOCATION:Live Webinar
ATTACH;FMTTYPE=image/jpeg:http://geniu.tv/de/wp-content/uploads/sites/3/2020/05/geniu_veranstaltung_lean-lab-design.jpg
END:VEVENT
BEGIN:VEVENT
DTSTART;TZID=Europe/Berlin:20200529T130000
DTEND;TZID=Europe/Berlin:20200529T170000
DTSTAMP:20260422T131615
CREATED:20191203T100259Z
LAST-MODIFIED:20191203T100259Z
UID:16328-1590757200-1590771600@geniu.tv
SUMMARY:Info-Tag "Lean Lab" - Erfolgreiche Optimierungen im Labor
DESCRIPTION:Steigendes Arbeits- und Probenvolumen bei gleichbleibendem Laborteam – immer neue Aufgaben und Ziele\, die Sie erfüllen müssen? Um diese Herausforderungen erfolgreich zu meistern\, sollten Sie sich mit den Möglichkeiten der Laboroptimierung mit „Lean“ auseinandersetzen. Denn Lean mit seinen etablierten Lean-Techniken wurde nicht nur in der Industrie\, sondern in zahlreichen Laboren mit großem Erfolg eingesetzt. \nInhalte\nSie möchten aus dem umfassenden Methodenbaukasten von Lean die richtigen Lean-Techniken auswählen\, um Ihre Abläufe im Labor effizienter und zuverlässiger zu machen? Zudem möchten Sie nicht nur lernen\, wie Sie Verschwendungen und Verbesserungsmöglichkeiten identifizieren\, sondern auch\, wie Sie effektive Lösungen für Ihr Labor entwickeln und nachhaltig umsetzen können? Dann informieren Sie sich an diesem Info-Tag über unsere Schulungen und Beratungsformate speziell für Labore. Schauen Sie zu einer beliebigen Zeit während des Info-Tags vorbei oder vereinbaren Sie einen persönlichen Gesprächstermin. \nZielgruppe\nDieser Info-Tag richtet sich an Führungskräfte und Mitarbeiter aus Laboren in dem Bereich Qualitätsmanagement und insbesondere der Qualitätskontrolle\, die für Laboroptimierungsprojekte oder -programme verantwortlich sind oder diese entwickeln wollen. \nAnsprechpartner\nDr. Wolf-Christian Gerstner ist Geschäftsführer von Geniu und hat Erfahrungen aus mehr als 75 Lean Lab Optimierungsprojekten für kleine\, mittlere und große Labore in Europa\, USA und Asien. \n* Der genaue Ort/die Adresse wird nach der Anmeldung spätestens eine Woche vorher kommuniziert. \n\nJetzt anmeldenGespräch vereinbaren\n\n×Anmeldung zur Veranstaltung\nOnline-Schulung-Lean Lab\n\n\n  \n\n\n\n\n\n\n\n\n\n\n\n\n\n\n\n\n\nDatenschutzhinweis Ihre Anfrage wird verschlüsselt über unseren Server versendet. Wir werden Ihre Angaben nur zur Bearbeitung Ihres Anliegens verwenden. Weitere Informationen sowie Widerrufhinweise finden Sie in unserer Datenschutzerklärung. \nBitte lasse dieses Feld leer.Bitte lasse dieses Feld leer.×\n\n\n\n×Gesprächstermin vereinbaren \nOnline-Schulung-Lean Lab\n\n\n  \n\n\n\n\n\n\n\n\n\n\n\n\n\n\n\n\n\n\n\nDatenschutzhinweis Ihre Anfrage wird verschlüsselt über unseren Server versendet. Wir werden Ihre Angaben nur zur Bearbeitung Ihres Anliegens verwenden. Weitere Informationen sowie Widerrufhinweise finden Sie in unserer Datenschutzerklärung. \nBitte lasse dieses Feld leer.Bitte lasse dieses Feld leer.×
URL:http://geniu.tv/de/veranstaltungen/info-tag-lean-lab-2020-05/
LOCATION:Hamburg*\, Deutschland
CATEGORIES:Vortrag
ATTACH;FMTTYPE=image/jpeg:http://geniu.tv/de/wp-content/uploads/sites/3/2019/02/geniu_infotag-1.jpg
ORGANIZER;CN="Geniu":MAILTO:christian.gerstner@geniu.com
END:VEVENT
END:VCALENDAR