BEGIN:VCALENDAR
VERSION:2.0
PRODID:-//Beratung und Weiterbildung für Labore | Geniu - ECPv6.2.9//NONSGML v1.0//EN
CALSCALE:GREGORIAN
METHOD:PUBLISH
X-ORIGINAL-URL:http://geniu.tv/de
X-WR-CALDESC:Veranstaltungen für Beratung und Weiterbildung für Labore | Geniu
REFRESH-INTERVAL;VALUE=DURATION:PT1H
X-Robots-Tag:noindex
X-PUBLISHED-TTL:PT1H
BEGIN:VTIMEZONE
TZID:Europe/Berlin
BEGIN:DAYLIGHT
TZOFFSETFROM:+0100
TZOFFSETTO:+0200
TZNAME:CEST
DTSTART:20200329T010000
END:DAYLIGHT
BEGIN:STANDARD
TZOFFSETFROM:+0200
TZOFFSETTO:+0100
TZNAME:CET
DTSTART:20201025T010000
END:STANDARD
END:VTIMEZONE
BEGIN:VEVENT
DTSTART;TZID=Europe/Berlin:20201022T163000
DTEND;TZID=Europe/Berlin:20201022T170000
DTSTAMP:20260422T052134
CREATED:20200508T111127Z
LAST-MODIFIED:20201015T130449Z
UID:16564-1603384200-1603386000@geniu.tv
SUMMARY:Lean Lab und Digitalisierung: gestern - heute – morgen
DESCRIPTION:Die Weltleitmesse analytica ist seit fünf Jahrzehnten Ihr Erfolgsgarant für die erfolgreiche Präsentation innovativer Labortechnik und zukunftweisender Biotechnologie. Als wichtigster Branchentreff vereint sie das komplette Themenspektrum der Labors in Industrie und Forschung. Auch Geniu wird dort wieder mit einem Stand vertreten sein. \nInhalt\nDigitalisierungs-Trends\, die das Labor verändern können\, sind unter dem Stichwort Labor 4.0 ein zentrales Thema. Ebenso aktuell ist „Lean Lab“\, mit dem viele Labore deutliche Verbesserungen der Kosteneffizienz\, Zuverlässigkeit und Agilität erzielen konnten. In dem Vortrag wird aufgezeigt\, wie „Lean Lab“ und Digitalisierung zusammenhängen und wie Labore die Chancen am effektivsten nutzen können. Zudem werden erstmalig Ergebnisse des Forschungsprojektes zum Nutzen von Lean im Labor präsentiert. \nZielgruppe\nAuf der analytica versammeln sich die Global Player der Branche. Hier treffen Sie die Marktführer\, Wissenschaftler und Experten in konzentrierter Präsenz. Sie profitieren von einem leistungsstarken Netzwerk und knüpfen Kontakte auf globalem Niveau. \nAnsprechpartner\nDr. Wolf-Christian Gerstner ist Geschäftsführer von Geniu und hat Erfahrungen aus mehr als 75 Lean Lab Optimierungsprojekten für kleine\, mittlere und große Labore in Europa\, USA und Asien. \nJetzt anmeldenGespräch vereinbaren×Gesprächstermin vereinbaren\nOnline-Schulung-Lean Lab\n\n\n  \n\n\n\n\n\n\n\n\n\n\n\n\n\n\n\n\n\n\n\nDatenschutzhinweis Ihre Anfrage wird verschlüsselt über unseren Server versendet. Wir werden Ihre Angaben nur zur Bearbeitung Ihres Anliegens verwenden. Weitere Informationen sowie Widerrufhinweise finden Sie in unserer Datenschutzerklärung. \nBitte lasse dieses Feld leer.Bitte lasse dieses Feld leer.×
URL:http://geniu.tv/de/veranstaltungen/lean-lab-und-digitalisierung-gestern-heute-morgen-2020-10/
LOCATION:Live-Webinar
CATEGORIES:Messe,Vortrag
ATTACH;FMTTYPE=image/jpeg:http://geniu.tv/de/wp-content/uploads/sites/3/2019/06/geniu_digitalisierung-im-labor.jpg
END:VEVENT
BEGIN:VEVENT
DTSTART;TZID=Europe/Berlin:20201029T140000
DTEND;TZID=Europe/Berlin:20201029T150000
DTSTAMP:20260422T052134
CREATED:20191203T105245Z
LAST-MODIFIED:20200106T134415Z
UID:16342-1603980000-1603983600@geniu.tv
SUMMARY:Webinar "Labor Benchmarking" - Von den besten Laboren lernen
DESCRIPTION:Kennzahlen sind ein zentraler Bestandteil der Führung eines Labors. Durch die bessere Verfügbarkeit von Daten hat die Bedeutung in den letzten Jahren nochmals zugenommen. Der Vergleich von Kennzahlen zwischen Laboren\, „Benchmarking“ genannt\, hilft Verbesserungsmöglichkeiten zu identifizieren und zu priorisieren. Daher hat die Einschätzung der eigenen Leistungsfähigkeit durch Benchmarking erheblich an Bedeutung gewonnen. \nInhalte\nSie möchten wissen\, was ein Benchmarking beinhaltet und wie es Führungskräften hilft Verbesserungsbereiche im Labor zu erkennen? Zudem möchten Sie erfahren\, wie ein Benchmarking abläuft und was dabei zu beachten ist? Dann informieren Sie sich entweder in diesem Webinar über unsere Benchmarkingmodule speziell für Labore oder vereinbaren einen persönlichen Gesprächstermin. \nZielgruppe\nDas Webinar richtet sich an Leiter der Qualitätskontrolle\, Labor-/Teamleiter (von QK-Laboren)\, Führungskräfte und verantwortliche Mitarbeiter aus Laboren\, die ihr Labor hinsichtlich der Leistungsfähigkeit vergleichen möchten und Verbesserungsmöglichkeiten z.B. der Kosteneffizienz\, Produktivität\, Qualität\, Zuverlässigkeit und Durchlaufzeit identifizieren möchten. \nReferent\nDr. Wolf-Christian Gerstner ist Geschäftsführer von Geniu und hat mehr als 100 Benchmarkingstudien durchgeführt. Zudem hat er die einzigartige Benchmarkingmethode von Geniu entwickelt und mehr als 75 Laboroptimierungs-Projekte in Europa\, USA und Asien durchgeführt. Er ist Referent auf internationalen Konferenzen zu Themen wie z.B. Laboroptimierung\, Lean Lab und Benchmarking und in der Juri des Awards „Excellence in Lab Optimization“. \n\nJetzt anmeldenGespräch vereinbaren\n\n×Anmeldung zur Veranstaltung\nOnline-Schulung-Lean Lab\n\n\n  \n\n\n\n\n\n\n\n\n\n\n\n\n\n\n\n\n\nDatenschutzhinweis Ihre Anfrage wird verschlüsselt über unseren Server versendet. Wir werden Ihre Angaben nur zur Bearbeitung Ihres Anliegens verwenden. Weitere Informationen sowie Widerrufhinweise finden Sie in unserer Datenschutzerklärung. \nBitte lasse dieses Feld leer.Bitte lasse dieses Feld leer.×\n\n\n\n×Gesprächstermin vereinbaren \nOnline-Schulung-Lean Lab\n\n\n  \n\n\n\n\n\n\n\n\n\n\n\n\n\n\n\n\n\n\n\nDatenschutzhinweis Ihre Anfrage wird verschlüsselt über unseren Server versendet. Wir werden Ihre Angaben nur zur Bearbeitung Ihres Anliegens verwenden. Weitere Informationen sowie Widerrufhinweise finden Sie in unserer Datenschutzerklärung. \nBitte lasse dieses Feld leer.Bitte lasse dieses Feld leer.×\n\n\n \n\n \nTechnische Voraussetzungen\nFür die Teilnahme ist ein PC/Laptop mit schnellem Internetzugang (z.B. DSL) sowie Lautsprecher oder Kopfhörer erforderlich. Das Webinar wird über den etablierten Anbieter für professionelle Webinare „WebEx“ angeboten. Es werden die gängigen Browser (Google Chrome\, Microsoft Edge\, Mozilla Firefox und Safari) unterstützt. Weitere Informationen finden Sie unter https://help.webex.com.
URL:http://geniu.tv/de/veranstaltungen/webinar-labor-benchmarking-2020-10/
LOCATION:Live Webinar
CATEGORIES:Webinar
ATTACH;FMTTYPE=image/jpeg:http://geniu.tv/de/wp-content/uploads/sites/3/2020/01/geniu_webinar_benchmarking.jpg
ORGANIZER;CN="Geniu":MAILTO:christian.gerstner@geniu.com
END:VEVENT
END:VCALENDAR