BEGIN:VCALENDAR
VERSION:2.0
PRODID:-//Beratung und Weiterbildung für Labore | Geniu - ECPv6.2.9//NONSGML v1.0//EN
CALSCALE:GREGORIAN
METHOD:PUBLISH
X-WR-CALNAME:Beratung und Weiterbildung für Labore | Geniu
X-ORIGINAL-URL:http://geniu.tv/de
X-WR-CALDESC:Veranstaltungen für Beratung und Weiterbildung für Labore | Geniu
REFRESH-INTERVAL;VALUE=DURATION:PT1H
X-Robots-Tag:noindex
X-PUBLISHED-TTL:PT1H
BEGIN:VTIMEZONE
TZID:Europe/Berlin
BEGIN:DAYLIGHT
TZOFFSETFROM:+0100
TZOFFSETTO:+0200
TZNAME:CEST
DTSTART:20210328T010000
END:DAYLIGHT
BEGIN:STANDARD
TZOFFSETFROM:+0200
TZOFFSETTO:+0100
TZNAME:CET
DTSTART:20211031T010000
END:STANDARD
END:VTIMEZONE
BEGIN:VEVENT
DTSTART;TZID=Europe/Berlin:20210826T140000
DTEND;TZID=Europe/Berlin:20210826T150000
DTSTAMP:20260421T115204
CREATED:20201005T123240Z
LAST-MODIFIED:20210502T110527Z
UID:16896-1629986400-1629990000@geniu.tv
SUMMARY:Laborplanung mit Lean Lab Design
DESCRIPTION:Der Neu- oder Umbau eines Labors ist ein Projekt\, welches die meisten nur einmal im Berufsleben zu meistern haben. Mit einem effektiven Vorgehen zur Gestaltung eines Labors können bis zu 25% Effizienzgewinne realisiert werden\, die nach der Inbetriebnahme in der Regel nicht mehr kosteneffizient realisiert werden können. Um ein „Lean Lab Design“ zu erreichen\, ist es daher wichtig\, sowohl das Makro-Design (bei mehreren Laborräumen) als auch das Mikro-Design eines Labors mit Hilfe von Lean Techniken optimal auf die Testabläufe und die Anforderungen der Laboranten abzustimmen. In dem Vortrag erhalten Sie einen Überblick zur Planung eines Labors mit Lean Management Techniken. \nZielgruppe\nDer Vortrag richtet sich an Leiter von Laboren\, Labor-/Teamleiter aus Routine- und Forschungs-/Entwicklungslaboren\, Führungskräfte und verantwortliche Mitarbeiter aus Laboren die in Um- oder Neubauprojekte involviert sind und ein Vorgehen kennenlernen wollen\, wie man schnell ein optimiertes Layout entwickeln kann. \nReferent\nDr. Wolf-Christian Gerstner ist Geschäftsführer von Geniu und hat Erfahrungen aus mehr als 75 Lean Lab Optimierungsprojekten für kleine\, mittlere und große Labore in Europa\, USA und Asien. \n\nJetzt anmeldenGespräch vereinbaren\n\n×Anmeldung zur Veranstaltung\nOnline-Schulung-Lean Lab\n\n\n  \n\n\n\n\n\n\n\n\n\n\n\n\n\n\n\n\n\nDatenschutzhinweis Ihre Anfrage wird verschlüsselt über unseren Server versendet. Wir werden Ihre Angaben nur zur Bearbeitung Ihres Anliegens verwenden. Weitere Informationen sowie Widerrufhinweise finden Sie in unserer Datenschutzerklärung. \nBitte lasse dieses Feld leer.Bitte lasse dieses Feld leer.×\n\n\n\n×Gesprächstermin vereinbaren \nOnline-Schulung-Lean Lab\n\n\n  \n\n\n\n\n\n\n\n\n\n\n\n\n\n\n\n\n\n\n\nDatenschutzhinweis Ihre Anfrage wird verschlüsselt über unseren Server versendet. Wir werden Ihre Angaben nur zur Bearbeitung Ihres Anliegens verwenden. Weitere Informationen sowie Widerrufhinweise finden Sie in unserer Datenschutzerklärung. \nBitte lasse dieses Feld leer.Bitte lasse dieses Feld leer.×\n\n\n \n\n \nTechnische Voraussetzungen\nFür die Teilnahme ist ein PC/Laptop mit schnellem Internetzugang (z.B. DSL) sowie Lautsprecher oder Kopfhörer erforderlich. Das Webinar wird über den etablierten Anbieter für professionelle Webinare „WebEx“ angeboten. Es werden die gängigen Browser (Google Chrome\, Microsoft Edge\, Mozilla Firefox und Safari) unterstützt. Weitere Informationen finden Sie unter https://help.webex.com.
URL:http://geniu.tv/de/veranstaltungen/laborplanung-mit-lean-lab-design-2021-08/
LOCATION:Live Webinar
CATEGORIES:Webinar
ATTACH;FMTTYPE=image/jpeg:http://geniu.tv/de/wp-content/uploads/sites/3/2020/05/geniu_veranstaltung_lean-lab-design.jpg
ORGANIZER;CN="Geniu":MAILTO:christian.gerstner@geniu.com
END:VEVENT
BEGIN:VEVENT
DTSTART;TZID=Europe/Berlin:20210827T130000
DTEND;TZID=Europe/Berlin:20210827T170000
DTSTAMP:20260421T115204
CREATED:20201005T120223Z
LAST-MODIFIED:20201005T120223Z
UID:16892-1630069200-1630083600@geniu.tv
SUMMARY:Info-Tag „Lean Lab“ – Erfolgreiche Optimierungen im Labor
DESCRIPTION:Steigendes Arbeits- und Probenvolumen bei gleichbleibendem Laborteam – immer neue Aufgaben und Ziele\, die Sie erfüllen müssen? Um diese Herausforderungen erfolgreich zu meistern\, sollten Sie sich mit den Möglichkeiten der Laboroptimierung mit „Lean“ auseinandersetzen. Denn Lean mit seinen etablierten Lean-Techniken wurde nicht nur in der Industrie\, sondern in zahlreichen Laboren mit großem Erfolg eingesetzt. \nInhalte\nSie möchten aus dem umfassenden Methodenbaukasten von Lean die richtigen Lean-Techniken auswählen\, um Ihre Abläufe im Labor effizienter und zuverlässiger zu machen? Zudem möchten Sie nicht nur lernen\, wie Sie Verschwendungen und Verbesserungsmöglichkeiten identifizieren\, sondern auch\, wie Sie effektive Lösungen für Ihr Labor entwickeln und nachhaltig umsetzen können? Dann informieren Sie sich an diesem Info-Tag über unsere Schulungen und Beratungsformate speziell für Labore. Schauen Sie zu einer beliebigen Zeit während des Info-Tags vorbei oder vereinbaren Sie einen persönlichen Gesprächstermin. \nZielgruppe\nDieser Info-Tag richtet sich an Führungskräfte und Mitarbeiter aus Laboren in dem Bereich Qualitätsmanagement und insbesondere der Qualitätskontrolle\, die für Laboroptimierungsprojekte oder -programme verantwortlich sind oder diese entwickeln wollen. \nAnsprechpartner\nDr. Wolf-Christian Gerstner ist Geschäftsführer von Geniu und hat Erfahrungen aus mehr als 75 Lean Lab Optimierungsprojekten für kleine\, mittlere und große Labore in Europa\, USA und Asien. \n* Der genaue Ort/die Adresse wird nach der Anmeldung spätestens eine Woche vorher kommuniziert. \n\nJetzt anmeldenGespräch vereinbaren\n\n×Anmeldung zur Veranstaltung\nOnline-Schulung-Lean Lab\n\n\n  \n\n\n\n\n\n\n\n\n\n\n\n\n\n\n\n\n\nDatenschutzhinweis Ihre Anfrage wird verschlüsselt über unseren Server versendet. Wir werden Ihre Angaben nur zur Bearbeitung Ihres Anliegens verwenden. Weitere Informationen sowie Widerrufhinweise finden Sie in unserer Datenschutzerklärung. \nBitte lasse dieses Feld leer.Bitte lasse dieses Feld leer.×\n\n\n\n×Gesprächstermin vereinbaren \nOnline-Schulung-Lean Lab\n\n\n  \n\n\n\n\n\n\n\n\n\n\n\n\n\n\n\n\n\n\n\nDatenschutzhinweis Ihre Anfrage wird verschlüsselt über unseren Server versendet. Wir werden Ihre Angaben nur zur Bearbeitung Ihres Anliegens verwenden. Weitere Informationen sowie Widerrufhinweise finden Sie in unserer Datenschutzerklärung. \nBitte lasse dieses Feld leer.Bitte lasse dieses Feld leer.×
URL:http://geniu.tv/de/veranstaltungen/info-tag-lean-lab-2021-08/
LOCATION:Hamburg*\, Deutschland
CATEGORIES:Vortrag
ATTACH;FMTTYPE=image/jpeg:http://geniu.tv/de/wp-content/uploads/sites/3/2019/02/geniu_infotag-1.jpg
ORGANIZER;CN="Geniu":MAILTO:christian.gerstner@geniu.com
END:VEVENT
END:VCALENDAR